BEGIN:VCALENDAR
VERSION:2.0
PRODID:-//Minds On Fire - ECPv4.8.2//NONSGML v1.0//EN
CALSCALE:GREGORIAN
METHOD:PUBLISH
X-WR-CALNAME:Minds On Fire
X-ORIGINAL-URL:http://mindsonfire.org
X-WR-CALDESC:Events for Minds On Fire
BEGIN:VEVENT
DTSTART;TZID=America/New_York:20151122T123000
DTEND;TZID=America/New_York:20151122T163000
DTSTAMP:20260425T203237
CREATED:20151102T224148Z
LAST-MODIFIED:20160214T210854Z
UID:3511-1448195400-1448209800@mindsonfire.org
SUMMARY:Self Care Shakedown (2015-11-22)
DESCRIPTION:We who work for the benefit of young people dream not of fame and fortune\, but fulfillment. And yet so many of us end up exhausted\, resentful\, and disillusioned while following our passion. Where did it all go wrong? “I love my young people but…” “They don’t pay me enough to…” I’ve heard this enough (and said this enough myself) to know that these are symptoms of a systemic problem. But having spent over half this year recovering from burnout\, I’ve learned that if I want to engage in truly transformative work\, I first have to work on transforming myself by paying more than lip service to self care. \nOn Sunday\, November 22\, I invite you to join a group of like-minded professionals for an afternoon of collaborative learning and sharing on self care in the context of youth service. Your facilitators\, Steph Cowling\, Clarissa Mendez\, and Ysette Guevara\, have designed this complimentary half-day event to support colleagues who aspire to mindful living and holistic youth work\, but find themselves sacrificing their own wellness along the way. \nIn the course of one afternoon\, you will learn to: \n\n\nFind a point of balance between caring for yourself and serving others \n\n\nCraft rituals and routines that support your well being \n\n\nDeepen your understanding of your inner processes and emotions so that self care decisions come easily \n\n\nAttune to your body so you can recognize outworn beliefs and come into deeper alignment with your inner truth \n\n\nAs a bonus\, you will also receive an invitation to beta test the third version of Game Plan\, which will help integrate these tools and lessons into your daily life in a playful way. \n[cta_box id=”3515″] \nSchedule\n\n\n\n12:30 – 1:00p\nDoors open\n\n\n1:00 – 1:05p\nOpening meditation\n\n\n1:05 – 1:15p\nWelcome address: “The Gifts of Burn Out” (Ysette Guevara)\n\n\n1:15 – 1:30p\nIntroductions\n\n\n1:30 – 2:20p\nTopic 1: “Put Your Oxygen Mask On First” (Steph Cowling)\n\n\n2:20 – 2:30p\nBreak\n\n\n2:30 – 3:20p\nTopic 2: “Moving Toward Wholehearted Living” (Clarissa Mendez)\n\n\n3:20 – 3:30p\nBreak\n\n\n3:30 – 4:20p\nTopic 3: “Core Belief or Sacred Cow?” (Ysette Guevara)\n\n\n4:20 – 4:30p\nIntegration and closing meditation\n\n\n\n[cta_box id=”3515″] \n\n\n	Related\n
URL:http://mindsonfire.org/event/self-care-shakedown-2015-11-22/
CATEGORIES:Self Care Shakedown
END:VEVENT
END:VCALENDAR